BEGIN:VCALENDAR
VERSION:2.0
PRODID:-//Western Minnesota Prairie Waters - ECPv6.15.17.1//NONSGML v1.0//EN
CALSCALE:GREGORIAN
METHOD:PUBLISH
X-ORIGINAL-URL:https://prairiewaters.com
X-WR-CALDESC:Events for Western Minnesota Prairie Waters
REFRESH-INTERVAL;VALUE=DURATION:PT1H
X-Robots-Tag:noindex
X-PUBLISHED-TTL:PT1H
BEGIN:VTIMEZONE
TZID:America/Chicago
BEGIN:DAYLIGHT
TZOFFSETFROM:-0600
TZOFFSETTO:-0500
TZNAME:CDT
DTSTART:20210314T080000
END:DAYLIGHT
BEGIN:STANDARD
TZOFFSETFROM:-0500
TZOFFSETTO:-0600
TZNAME:CST
DTSTART:20211107T070000
END:STANDARD
BEGIN:DAYLIGHT
TZOFFSETFROM:-0600
TZOFFSETTO:-0500
TZNAME:CDT
DTSTART:20220313T080000
END:DAYLIGHT
BEGIN:STANDARD
TZOFFSETFROM:-0500
TZOFFSETTO:-0600
TZNAME:CST
DTSTART:20221106T070000
END:STANDARD
BEGIN:DAYLIGHT
TZOFFSETFROM:-0600
TZOFFSETTO:-0500
TZNAME:CDT
DTSTART:20230312T080000
END:DAYLIGHT
BEGIN:STANDARD
TZOFFSETFROM:-0500
TZOFFSETTO:-0600
TZNAME:CST
DTSTART:20231105T070000
END:STANDARD
BEGIN:DAYLIGHT
TZOFFSETFROM:-0600
TZOFFSETTO:-0500
TZNAME:CDT
DTSTART:20240310T080000
END:DAYLIGHT
BEGIN:STANDARD
TZOFFSETFROM:-0500
TZOFFSETTO:-0600
TZNAME:CST
DTSTART:20241103T070000
END:STANDARD
BEGIN:DAYLIGHT
TZOFFSETFROM:-0600
TZOFFSETTO:-0500
TZNAME:CDT
DTSTART:20250309T080000
END:DAYLIGHT
BEGIN:STANDARD
TZOFFSETFROM:-0500
TZOFFSETTO:-0600
TZNAME:CST
DTSTART:20251102T070000
END:STANDARD
END:VTIMEZONE
BEGIN:VEVENT
DTSTART;TZID=America/Chicago:20241031T173000
DTEND;TZID=America/Chicago:20241031T183000
DTSTAMP:20260422T042338
CREATED:20241023T182805Z
LAST-MODIFIED:20241023T182805Z
UID:10002069-1730395800-1730399400@prairiewaters.com
SUMMARY:Indoor Trick or Treat
DESCRIPTION:Bring your littles trick or treating indoors! \nTable decorating is free and open to everyone! To reserve your table\, send us a message or reach out to Hannah at hannah@upframecreative.com by October 28th.
URL:https://prairiewaters.com/event/indoor-trick-or-treat/
LOCATION:Old Schotts Building\, 210 St Olaf Ave N\, Canby\, 56220\, United States
GEO:44.7099845;-96.2750764
X-APPLE-STRUCTURED-LOCATION;VALUE=URI;X-ADDRESS=Old Schotts Building 210 St Olaf Ave N Canby 56220 United States;X-APPLE-RADIUS=500;X-TITLE=210 St Olaf Ave N:geo:-96.2750764,44.7099845
END:VEVENT
BEGIN:VEVENT
DTSTART;VALUE=DATE:20240921
DTEND;VALUE=DATE:20240922
DTSTAMP:20260422T042338
CREATED:20230911T154325Z
LAST-MODIFIED:20240911T182209Z
UID:10001946-1726876800-1726963199@prairiewaters.com
SUMMARY:Fall Fest
DESCRIPTION:Check out Canby for all the Fall Fest fun!  \n \n 
URL:https://prairiewaters.com/event/fall-fest-2/
LOCATION:City of Canby\, Canby\, MN\, 56220
GEO:44.7088525;-96.2764335
END:VEVENT
BEGIN:VEVENT
DTSTART;VALUE=DATE:20240504
DTEND;VALUE=DATE:20240505
DTSTAMP:20260422T042338
CREATED:20190401T193559Z
LAST-MODIFIED:20240213T154258Z
UID:10001744-1714780800-1714867199@prairiewaters.com
SUMMARY:Canby Spring Showcase
DESCRIPTION:Come to Canby to do some shopping at their annual Spring Showcase!
URL:https://prairiewaters.com/event/canby-spring-showcase-open-house/
LOCATION:City of Canby\, Canby\, MN\, 56220
GEO:44.7088525;-96.2764335
END:VEVENT
BEGIN:VEVENT
DTSTART;TZID=America/Chicago:20221031T053000
DTEND;TZID=America/Chicago:20221031T183000
DTSTAMP:20260422T042338
CREATED:20221019T190331Z
LAST-MODIFIED:20221019T190331Z
UID:10001847-1667194200-1667241000@prairiewaters.com
SUMMARY:Trunk or Treat
DESCRIPTION:Fun for everyone in Canby! Take part in decorating a trunk or come check them out and collect candy!
URL:https://prairiewaters.com/event/trunk-or-treat-4/
LOCATION:Canby Central Park\, 4th Street W and St Olaf Ave N\, Canby\, MN\, 56220\, United States
GEO:44.7112253;-96.2728884
X-APPLE-STRUCTURED-LOCATION;VALUE=URI;X-ADDRESS=Canby Central Park 4th Street W and St Olaf Ave N Canby MN 56220 United States;X-APPLE-RADIUS=500;X-TITLE=4th Street W and St Olaf Ave N:geo:-96.2728884,44.7112253
END:VEVENT
END:VCALENDAR